0.0145454545454545
0.000000
0.000000
-0.0145454545454545
-92.907366138805
46.9607257773659
