0.0145454545454545
0.000000
0.000000
-0.0145454545454545
-81.2323630870472
38.7687282492898
