0.0145454545454545
0.000000
0.000000
-0.0145454545454545
-105.22036204945
52.3857288291238
