0.0145454545454545
0.000000
0.000000
-0.0145454545454545
-106.545366627086
35.9357280661843
