0.0145454545454545
0.000000
0.000000
-0.0145454545454545
-96.6183646739613
38.8287258078835
