0.0145454545454545
0.000000
0.000000
-0.0145454545454545
-81.8343604625355
42.9677257468484
