0.0145454545454545
0.000000
0.000000
-0.0145454545454545
-90.3003638805043
41.9677257468484
