0.0145454545454545
0.000000
0.000000
-0.0145454545454545
-82.7853644908558
37.9817256858132
