0.0145454545454545
0.000000
0.000000
-0.0145454545454545
-95.0393622935902
42.6917285849831
