0.0145454545454545
0.000000
0.000000
-0.0145454545454545
-92.4413627208363
45.59672736428
