0.0145454545454545
0.000000
0.000000
-0.0145454545454545
-104.932360035289
45.9507274558327
