0.0145454545454545
0.000000
0.000000
-0.0145454545454545
-94.1813605846058
34.3297271659157
