0.0145454545454546
0.000000
0.000000
-0.0145454545454546
-128.463365894664
51.1087284018777
