0.0145454545454545
0.000000
0.000000
-0.0145454545454545
-97.5723670543324
34.1177272727273
