0.0145454545454545
0.000000
0.000000
-0.0145454545454545
-70.4353660167347
22.1107273032449
