0.0145454545454545
0.000000
0.000000
-0.0145454545454545
-87.6693671764027
41.5837268759988
