0.0145454545454545
0.000000
0.000000
-0.0145454545454545
-87.7073615611683
36.6677265097878
