0.0145454545454545
0.000000
0.000000
-0.0145454545454545
-116.026361805309
37.281728737571
