0.0145454545454545
0.000000
0.000000
-0.0145454545454545
-99.9203666270863
40.1677265097878
