0.0145454545454545
0.000000
0.000000
-0.0145454545454545
-93.6933616222035
44.1437282492898
