0.0145454545454545
0.000000
0.000000
-0.0145454545454545
-88.178362232555
43.4127254416726
