0.0145454545454545
0.000000
0.000000
-0.0145454545454545
-101.799364429821
41.6467266013406
