0.0145454545454546
0.000000
0.000000
-0.0145454545454546
-159.92836986195
23.0907268454812
