0.0145454545454545
0.000000
0.000000
-0.0145454545454545
-90.4403632701527
38.9237270285866
