0.0145454545454545
0.000000
0.000000
-0.0145454545454545
-91.641367298473
40.729726784446
