0.0145454545454545
0.000000
0.000000
-0.0145454545454545
-123.987360340465
40.3067264487527
