0.0145454545454546
0.000000
0.000000
-0.0145454545454546
-161.53936229359
25.1287269522927
