0.0145454545454546
0.000000
0.000000
-0.0145454545454546
-160.137369495739
24.1217269828103
