0.0145454545454546
0.000000
0.000000
-0.0145454545454546
-163.911356312145
25.8897266318581
