0.0145454545454545
0.000000
0.000000
-0.0145454545454545
-110.478365284313
37.0687274863503
