0.0145454545454546
0.000000
0.000000
-0.0145454545454546
140.454641002308
17.4487276007912
