0.0145454545454545
0.000000
0.000000
-0.0145454545454545
-89.901361805309
46.8867282798074
