0.0145454545454545
0.000000
0.000000
-0.0145454545454545
-101.739366871227
34.7147273947976
