0.0145454545454545
0.000000
0.000000
-0.0145454545454545
-92.4673636973988
48.4907283713601
