0.0145454545454545
0.000000
0.000000
-0.0145454545454545
-106.056360584606
43.3587284018777
