0.0145454545454545
0.000000
0.000000
-0.0145454545454545
-112.569361072887
43.0547275473855
