0.0145454545454545
0.000000
0.000000
-0.0145454545454545
-110.98036418568
52.1987285544656
