0.0145454545454545
0.000000
0.000000
-0.0145454545454545
-108.901361805309
43.778726570823
