0.0145454545454545
0.000000
0.000000
-0.0145454545454545
-115.553362232555
38.5667285849831
