0.0145454545454545
0.000000
0.000000
-0.0145454545454545
-101.085359913219
47.580728523948
