0.0145454545454545
0.000000
0.000000
-0.0145454545454545
-88.9223655284535
37.3557262351296
