0.0145454545454545
0.000000
0.000000
-0.0145454545454545
-107.985361439098
38.6277255942605
