0.0145454545454545
0.000000
0.000000
-0.0145454545454545
-84.630365711559
41.0167255332253
