0.0145454545454545
0.000000
0.000000
-0.0145454545454545
-121.916361194957
39.0907268454812
