0.0145454545454545
0.000000
0.000000
-0.0145454545454545
-119.247362476696
39.6937274863503
