0.0145454545454545
0.000000
0.000000
-0.0145454545454545
-111.054361683239
35.8657264640115
