0.0145454545454545
0.000000
0.000000
-0.0145454545454545
-89.8153632701527
35.4527263571999
