0.0145454545454545
0.000000
0.000000
-0.0145454545454545
-78.4203666270863
46.5787258078835
