0.0145454545454545
0.000000
0.000000
-0.0145454545454545
-114.986360889782
35.8867263724587
