0.0145454545454545
0.000000
0.000000
-0.0145454545454545
-103.610361439098
36.5307254721902
